BEGIN:VCALENDAR
VERSION:2.0
PRODID:-//Xarxatec - Area socios - ECPv6.0.9//NONSGML v1.0//EN
CALSCALE:GREGORIAN
METHOD:PUBLISH
X-WR-CALNAME:Xarxatec - Area socios
X-ORIGINAL-URL:https://areasocios.xarxatec.com
X-WR-CALDESC:Eventos para Xarxatec - Area socios
REFRESH-INTERVAL;VALUE=DURATION:PT1H
X-Robots-Tag:noindex
X-PUBLISHED-TTL:PT1H
BEGIN:VTIMEZONE
TZID:Europe/Paris
BEGIN:DAYLIGHT
TZOFFSETFROM:+0100
TZOFFSETTO:+0200
TZNAME:CEST
DTSTART:20230326T010000
END:DAYLIGHT
BEGIN:STANDARD
TZOFFSETFROM:+0200
TZOFFSETTO:+0100
TZNAME:CET
DTSTART:20231029T010000
END:STANDARD
BEGIN:DAYLIGHT
TZOFFSETFROM:+0100
TZOFFSETTO:+0200
TZNAME:CEST
DTSTART:20240331T010000
END:DAYLIGHT
BEGIN:STANDARD
TZOFFSETFROM:+0200
TZOFFSETTO:+0100
TZNAME:CET
DTSTART:20241027T010000
END:STANDARD
TZID:UTC
BEGIN:STANDARD
TZOFFSETFROM:+0000
TZOFFSETTO:+0000
TZNAME:UTC
DTSTART:20230101T000000
END:STANDARD
END:VTIMEZONE
BEGIN:VEVENT
DTSTART;VALUE=DATE:20230526
DTEND;VALUE=DATE:20230528
DTSTAMP:20260425T223353
CREATED:20230406T091620Z
LAST-MODIFIED:20230406T091620Z
UID:20867-1685059200-1685231999@areasocios.xarxatec.com
SUMMARY:CTO Summit
DESCRIPTION:El CTO Summit es el único congreso dirigido a CTOs y equipos IT en España que reúne a líderes tech que están haciendo frente a los grandes retos tecnológicos del sector. El congreso aborda conferencias sobre tecnología innovadora y para el bien social\, gestión del talento en equipos IT y enfoque del negocio para CTOs.
URL:https://areasocios.xarxatec.com/event/cto-summit/
LOCATION:La Rambleta\, Bulevar Sur esquina Calle Pío IX\, Valencia\, Valencia\, 46017\, España
ATTACH;FMTTYPE=image/png:https://areasocios.xarxatec.com/wp-content/uploads/2023/04/Sin-titulo.png
END:VEVENT
BEGIN:VEVENT
DTSTART;TZID=Europe/Paris:20230530T100000
DTEND;TZID=Europe/Paris:20230530T120000
DTSTAMP:20260425T223353
CREATED:20230525T074423Z
LAST-MODIFIED:20230525T074423Z
UID:20931-1685440800-1685448000@areasocios.xarxatec.com
SUMMARY:Jornada: "Retos y oportunidades para Pymes sostenibles"
DESCRIPTION:El próximo martes 30 de mayo en el CEEI Castellón\, se celebrará una jornada para hablar de diversos temas relacionados con la sostenibilidad y el desarrollo empresarial con la Fundación de Estudios Bursátiles y Financieros. \nMás información e inscripciones aquí.
URL:https://areasocios.xarxatec.com/event/jornada-retos-y-oportunidades-para-pymes-sostenibles/
LOCATION:CEEI Castellón\, Ronda Circunvalación 188\, Castellón\, Castellón\, 12003\, España
ATTACH;FMTTYPE=image/jpeg:https://areasocios.xarxatec.com/wp-content/uploads/2023/05/unnamed-4.jpg
END:VEVENT
BEGIN:VEVENT
DTSTART;VALUE=DATE:20230601
DTEND;VALUE=DATE:20230603
DTSTAMP:20260425T223353
CREATED:20230524T095915Z
LAST-MODIFIED:20230524T095915Z
UID:20923-1685577600-1685750399@areasocios.xarxatec.com
SUMMARY:II Congreso de empresas responsables y sostenibles: Advance/R+S
DESCRIPTION:Los principales sectores que impulsan la economía valenciana se dan cita para debatir y compartir las prácticas sostenibles en sus estructuras organizativas. Una necesidad creciente debido a las demandas del mercado\, la legislación y\, sobre todo\, del entorno y los grupos de interés que los rodean. Los grandes retos a los que se enfrenta el mundo pasan por un modelo productivo que respete a las personas y el planeta a través del firme compromiso empresarial con la sostenibilidad. \nMás información e inscripciones aquí.
URL:https://areasocios.xarxatec.com/event/ii-congreso-de-empresas-responsables-y-sostenibles-advance-rs/
LOCATION:BioHub Valencia\, Travessia 15 E\,\, Valencia\, 46024\, España
ATTACH;FMTTYPE=image/png:https://areasocios.xarxatec.com/wp-content/uploads/2023/05/unnamed-3.png
END:VEVENT
BEGIN:VEVENT
DTSTART;TZID=Europe/Paris:20230601T130000
DTEND;TZID=Europe/Paris:20230601T140000
DTSTAMP:20260425T223353
CREATED:20230524T100911Z
LAST-MODIFIED:20230524T100911Z
UID:20927-1685624400-1685628000@areasocios.xarxatec.com
SUMMARY:¿Cómo puede beneficiarse mi empresa de los Proyectos Estratégicos para la Recuperación y transformación económica?
DESCRIPTION:Los PERTE (Proyectos Estratégicos para la Recuperación y Transformación Económica) son un instrumento de colaboración público-privada en los que colaboran las distintas administraciones públicas\, empresas y centros de investigación\, con el objetivo de impulsar iniciativas que contribuyan a la transformación de la economía española. \nMás información e inscripciones (presencial u online) aquí.
URL:https://areasocios.xarxatec.com/event/como-puede-beneficiarse-mi-empresa-de-los-proyectos-estrategicos-para-la-recuperacion-y-transformacion-economica/
LOCATION:Hub Empresa\, Plaza Porta de la Mar\, Valencia\, Valencia\, 46010\, España
ATTACH;FMTTYPE=image/jpeg:https://areasocios.xarxatec.com/wp-content/uploads/2023/05/Foto-FRE.jpg
END:VEVENT
BEGIN:VEVENT
DTSTART;TZID=Europe/Paris:20230601T180000
DTEND;TZID=Europe/Paris:20230601T193000
DTSTAMP:20260425T223353
CREATED:20230525T081257Z
LAST-MODIFIED:20230601T095340Z
UID:20935-1685642400-1685647800@areasocios.xarxatec.com
SUMMARY:XT Networking 01/06 (POSPUESTO)
DESCRIPTION:XarxaTec os invita el día 1 de junio a la ponencia “No lo llames solo CIBERSEGURIDAD” que correrá a cargo de Araceli Peris de Digitalaw. El evento se celebrará en las Instalaciones de Nayar Systems a las 18:00 horas. \nLa seguridad de la información en la empresa va más allá de medidas técnicas\, organizativas y legales sobre protección de datos de la empresa.\n¿Cómo tratas la propiedad intelectual de tu empresa y la de terceros\, así como la propiedad industrial? ¿Has registrado software\, marcas\, patentes? Se mencionará tambien el cumplimiento normativo de la LSSI y del Compliance Penal.\nFinalmente\, se debatirá sobre la inminente aprobación del Reglamento de la UE sobre INTELIGENCIA ARTIFICIAL\, ¿a qué nos va a obligar?\, ¿en qué nos va a influir en la seguridad de la información? \nMás información e inscripciones aquí.
URL:https://areasocios.xarxatec.com/event/xt-networking-01-06/
LOCATION:Nayar Systems\, Avda. Casalduch 9\, Castellón\, Castellón\, 12005\, España
ATTACH;FMTTYPE=image/png:https://areasocios.xarxatec.com/wp-content/uploads/2023/03/Logo-1.png
END:VEVENT
BEGIN:VEVENT
DTSTART;TZID=Europe/Paris:20230606T120000
DTEND;TZID=Europe/Paris:20230606T133000
DTSTAMP:20260425T223353
CREATED:20230515T091245Z
LAST-MODIFIED:20230515T091245Z
UID:20908-1686052800-1686058200@areasocios.xarxatec.com
SUMMARY:Global CV| La transformación hacia Smart Companies: La Inteligencia Artificial en el contexto empresarial internacional
DESCRIPTION:La Cámara de Comercio de Castellón organiza este webinar que está dirigido a: empresarios\, gerentes y ejecutivos interesados en impulsar el crecimiento y la competitividad de sus organizaciones. \nObjetivos: Esta conferencia te proporcionará una comprensión profunda de cómo la Inteligencia Artificial (IA) está revolucionando el mundo empresarial y las oportunidades que ofrece para mejorar la productividad\, la toma de decisiones y la innovación en tu empresa internacional. \nEste webinar gratuito está incluido en el Programa Inernacional de Promoción de las Cámaras de Comercio de España con el apoyo y cofinanciación de Fondos FEDER e IVACE internacional. \nMás información e inscripciones aquí.
URL:https://areasocios.xarxatec.com/event/global-cv-la-transformacion-hacia-smart-companies-la-inteligencia-artificial-en-el-contexto-empresarial-internacional/
LOCATION:Castellón
ATTACH;FMTTYPE=image/png:https://areasocios.xarxatec.com/wp-content/uploads/2023/05/unnamed-5.png
END:VEVENT
BEGIN:VEVENT
DTSTART;VALUE=DATE:20230607
DTEND;VALUE=DATE:20230610
DTSTAMP:20260425T223353
CREATED:20230530T090558Z
LAST-MODIFIED:20230530T090558Z
UID:20941-1686096000-1686355199@areasocios.xarxatec.com
SUMMARY:South Summit Madrid 2023
DESCRIPTION:South Summit Madrid 23 es el mayor evento del sector de la innovación y emprendimiento en España\, referente global para la atracción de talento y generación de oportunidades de negocio en el ecosistema emprendedor.  \nQueremos contar con vosotros del 7 al 9 de junio en nuestro stand físico en Madrid. \nPodréis tener acceso a: \n\nFormar parte del stand dando a conocer vuestra empresa a los asistentes \nEntradas Attendant\, que dan acceso a los 8 escenarios del evento\n\nAcceso al área de Marketplace\nAfterparty\nAcceso a la app de networking del evento: donde podéis tener contacto y cerrar reuniones con todos los asistentes registrados\n\nLas plazas son limitadas\, por lo que el orden de inscripción es importante. \nPara más información: soporte.empresas@distritodigitalcv.es
URL:https://areasocios.xarxatec.com/event/south-summit-madrid-2023/
LOCATION:Castellón
ATTACH;FMTTYPE=image/png:https://areasocios.xarxatec.com/wp-content/uploads/2023/05/unnamed5.png
END:VEVENT
BEGIN:VEVENT
DTSTART;TZID=UTC:20230607T090000
DTEND;TZID=UTC:20230607T140000
DTSTAMP:20260425T223353
CREATED:20230529T101016Z
LAST-MODIFIED:20230529T101016Z
UID:20938-1686128400-1686146400@areasocios.xarxatec.com
SUMMARY:II Congreso de Economía Circular
DESCRIPTION:¿Te gustaría generar rentabilidad a partir de los residuos de tu empresa?\nTe invitamos a la primera Jam Session sobre sostenibilidad en Castellón\, una sesión práctica donde la colaboración entre las empresas genera nuevas oportunidades de negocio. \nMás información e inscripciones aquí.
URL:https://areasocios.xarxatec.com/event/ii-congreso-de-economia-circular/
LOCATION:Castellón
ATTACH;FMTTYPE=image/jpeg:https://areasocios.xarxatec.com/wp-content/uploads/2023/05/5.jpg
END:VEVENT
BEGIN:VEVENT
DTSTART;VALUE=DATE:20230613
DTEND;VALUE=DATE:20230616
DTSTAMP:20260425T223353
CREATED:20230215T113730Z
LAST-MODIFIED:20230215T113730Z
UID:20663-1686614400-1686873599@areasocios.xarxatec.com
SUMMARY:DES 2023 (DIGITAL ENTERPRISE SHOW)
DESCRIPTION:Digital Enterprise Show (DES) tendrá lugar los días 13\, 14 y 15 de junio en FYCMA\, Palacio de Ferias y Congresos de Málaga. \nFYCMA – Palacio de Ferias y Congresos de Málaga
URL:https://areasocios.xarxatec.com/event/des-2023-digital-enterprise-show/
LOCATION:Castellón
ATTACH;FMTTYPE=image/jpeg:https://areasocios.xarxatec.com/wp-content/uploads/2020/04/DES2023.jpeg
END:VEVENT
BEGIN:VEVENT
DTSTART;VALUE=DATE:20230621
DTEND;VALUE=DATE:20230623
DTSTAMP:20260425T223353
CREATED:20230510T092822Z
LAST-MODIFIED:20230510T092822Z
UID:20900-1687305600-1687478399@areasocios.xarxatec.com
SUMMARY:HikVision Village
DESCRIPTION:Un espacio de innovación en el que se reunirán los principales grupos de interés del sector para hablar de tendencias\nsectoriales y compartir nuevas tecnologías. Conoce toda la tecnología de Hikvision y sus partners en un espacio tecnológico de altas dimensiones construido para la ocasión.
URL:https://areasocios.xarxatec.com/event/hikvision-village/
LOCATION:Espacio Ibercaja Delicias\, Cl. del Parroco Eusebio Cuenca\, 63\, Madrid\, Madrid\, 28045\, España
ATTACH;FMTTYPE=image/jpeg:https://areasocios.xarxatec.com/wp-content/uploads/2023/05/Hikvision-Village_desktop-banner_960x90.jpg
END:VEVENT
BEGIN:VEVENT
DTSTART;TZID=UTC:20230621T110000
DTEND;TZID=UTC:20230621T130000
DTSTAMP:20260425T223353
CREATED:20230612T100321Z
LAST-MODIFIED:20230612T100321Z
UID:20957-1687345200-1687352400@areasocios.xarxatec.com
SUMMARY:La debida diligencia en sostenibilidad
DESCRIPTION:La debida diligencia es el proceso que deben llevar a cabo las empresas para identificar\, evitar\, mitigar y responsabilizarse de sus impactos negativos en materia de derechos humanos\, laborales\, sociales\, sobre la salud y el medio ambiente. \nDirectores\, gerentes\, compras\, medio ambiente\, sostenibilidad\, recursos humanos\, etc. \nMás información e inscripciones aquí.
URL:https://areasocios.xarxatec.com/event/la-debida-diligencia-en-sostenibilidad/
LOCATION:Cámara de Comercio\, Avda.Hermanos Bou 79\, Castellón\, Castellón\, 12003\, España
ATTACH;FMTTYPE=image/jpeg:https://areasocios.xarxatec.com/wp-content/uploads/2023/06/unnamed.jpg
END:VEVENT
BEGIN:VEVENT
DTSTART;TZID=Europe/Paris:20230714T120000
DTEND;TZID=Europe/Paris:20230714T133000
DTSTAMP:20260425T223353
CREATED:20230707T081118Z
LAST-MODIFIED:20230707T081118Z
UID:20983-1689336000-1689341400@areasocios.xarxatec.com
SUMMARY:Reunión CEEI Castellón
DESCRIPTION:El objetivo de esta reunión es discutir detalladamente las oportunidades identificadas y los grupos establecidos de trabajo. Necesitamos aprovechar al máximo nuestras habilidades y recursos para impulsar estas oportunidades y generar un impacto positivo en el territorio. \nTu participación es esencial para el éxito de La iniciativa. Tu experiencia y conocimientos contribuirán a diseñar estrategias efectivas y maximizarán el potencial de estas oportunidades. \nMás información e inscripciones aquí.
URL:https://areasocios.xarxatec.com/event/reunion-ceei-castellon/
LOCATION:Castellón
ATTACH;FMTTYPE=image/jpeg:https://areasocios.xarxatec.com/wp-content/uploads/2023/07/119712_foto.jpg
END:VEVENT
BEGIN:VEVENT
DTSTART;TZID=Europe/Paris:20230920T000000
DTEND;TZID=Europe/Paris:20230920T000000
DTSTAMP:20260425T223353
CREATED:20230907T103711Z
LAST-MODIFIED:20230907T105010Z
UID:21037-1695168000-1695168000@areasocios.xarxatec.com
SUMMARY:Kit Digital
DESCRIPTION:El día 20 de septiembre de 2023\, XarxaTec junto con la Cámara de Comercio de Castellón co-organizará un evento para dar a conocer el procedimiento del programa Kit Digital impulsado por el Gobierno de España que tiene como objetivo promover la digitalización de pequeñas empresas\, micropymes y autónomos\, y contribuir a modernizar el tejido productivo español.\nSi quieres participar en el evento\, déjanos tus respuestas aquí
URL:https://areasocios.xarxatec.com/event/kit-digital/
LOCATION:Cámara de Comercio\, Avda.Hermanos Bou 79\, Castellón\, Castellón\, 12003\, España
ATTACH;FMTTYPE=image/png:https://areasocios.xarxatec.com/wp-content/uploads/2023/06/Sin-titulo.png
END:VEVENT
BEGIN:VEVENT
DTSTART;TZID=Europe/Paris:20230921T173000
DTEND;TZID=Europe/Paris:20230921T200000
DTSTAMP:20260425T223353
CREATED:20230907T104353Z
LAST-MODIFIED:20230907T105154Z
UID:21039-1695317400-1695326400@areasocios.xarxatec.com
SUMMARY:Asambleas XarxaTec
DESCRIPTION:XarxaTec convoca a todos sus socios/as para la celebración de la próxima Asamblea General Ordinaria y Extraordinaria\, que tendrá lugar el próximo jueves\, día 21 de septiembre de 2023 en el CEEI Castellón sito/a en Ronda Circunvalación 188\, 12003\, Castellón de la Plana (Castellón)\, a las 17.30 horas en primera convocatoria y a las 18:00 horas en segunda convocatoria. \nOs rogamos que confirméis vuestra asistencia aquí.
URL:https://areasocios.xarxatec.com/event/asambleas-xarxatec/
LOCATION:CEEI Castellón\, Ronda Circunvalación 188\, Castellón\, Castellón\, 12003\, España
ATTACH;FMTTYPE=image/png:https://areasocios.xarxatec.com/wp-content/uploads/2023/03/Logo-1.png
END:VEVENT
BEGIN:VEVENT
DTSTART;VALUE=DATE:20231002
DTEND;VALUE=DATE:20231006
DTSTAMP:20260425T223353
CREATED:20230707T094611Z
LAST-MODIFIED:20230707T094834Z
UID:20990-1696204800-1696550399@areasocios.xarxatec.com
SUMMARY:BNEW Barcelona 2023
DESCRIPTION:BNEW BARCELONA se celebrará en Estación de Francia Barcelona del próximo 2 al 5 octubre 2023 presentando las novedades de empresas de España e internacionales relacionadas con los sectores de b2b\, Biotecnología\, Automatización\, Robótica\, Inversores\, Digital Technology\, Transporte y logística\, Energía renovable\, Tecnologías informáticas\, Ecológico\, Nuevas tecnologías\, Reciclaje\, Automoción\, Economía\, Desarrollo sostenible\, Comercio electrónico\, etc.
URL:https://areasocios.xarxatec.com/event/bnew-barcelona-2023/
LOCATION:Estación de Francia\, Avinguda del Marquès de l'Argentera s/n\, Barcelona\, Barcelona\, España
ATTACH;FMTTYPE=image/jpeg:https://areasocios.xarxatec.com/wp-content/uploads/2023/07/6177a2e983736-bnewpanothorizontal.jpg
END:VEVENT
BEGIN:VEVENT
DTSTART;TZID=Europe/Paris:20231005T090000
DTEND;TZID=Europe/Paris:20231005T140000
DTSTAMP:20260425T223353
CREATED:20230721T075818Z
LAST-MODIFIED:20230721T075818Z
UID:21001-1696496400-1696514400@areasocios.xarxatec.com
SUMMARY:V Foro de Inteligencia Competitiva
DESCRIPTION:El próximo 5 de octubre vuelve el V Foro de Inteligencia Competitiva para la Internacionalización Cinteligencia\, una emocionante jornada en la que profesionales y grandes tecnológicas darán a conocer las tendencias globales de la nueva era para estar preparado para el futuro. El evento está disponible para asistir de forma presencial o a través de la modalidad streaming. \nMás información e inscripciones aquí.
URL:https://areasocios.xarxatec.com/event/v-foro-de-inteligencia-competitiva/
LOCATION:Cámara de Comercio\, Avda.Hermanos Bou 79\, Castellón\, Castellón\, 12003\, España
ATTACH;FMTTYPE=image/jpeg:https://areasocios.xarxatec.com/wp-content/uploads/2023/07/unnamed-3.jpg
END:VEVENT
BEGIN:VEVENT
DTSTART;TZID=Europe/Paris:20231005T090000
DTEND;TZID=Europe/Paris:20231005T160000
DTSTAMP:20260425T223353
CREATED:20230901T115503Z
LAST-MODIFIED:20230901T115503Z
UID:21024-1696496400-1696521600@areasocios.xarxatec.com
SUMMARY:Go Digital Human First 2023
DESCRIPTION:Evento en formato presencial\, que te invita a explorar cómo la tecnología puede impulsar el progreso humano y crear nuevas oportunidades para las empresas.\nEn un mundo cada vez más digitalizado\, nuestra prioridad es poner a las personas en el centro de la transformación tecnológica\, disfruta la cultura digital y crea conexiones reales en un espacio dinámico con corners temáticos\, showroom\, entrevistas\, concursos\, contenido top\, networking y vistas al mar.
URL:https://areasocios.xarxatec.com/event/go-digital-human-first-2023/
LOCATION:Hotel Balneario Las Arenas\, C/ d'Eugènia Viñes\, 22\, 24\, Valencia\, Valencia\, 46011\, España
ATTACH;FMTTYPE=image/png:https://areasocios.xarxatec.com/wp-content/uploads/2023/09/GoDigital-General.png
END:VEVENT
BEGIN:VEVENT
DTSTART;TZID=Europe/Paris:20231018T080000
DTEND;TZID=Europe/Paris:20231018T170000
DTSTAMP:20260425T223353
CREATED:20231004T104509Z
LAST-MODIFIED:20231004T104509Z
UID:21054-1697616000-1697648400@areasocios.xarxatec.com
SUMMARY:Encuentro Empresarial: DIGITALITZA'T
DESCRIPTION:Desde la oficina Acelera Pyme Rural de la Diputació de Castelló os invitamos a formar parte del encuentro Digitalitza’t que se va a realizar el próximo 18 de octubre en el Centro Sociocultural del municipio de Sant Joan de Moró para empresas de la provincia de Castellón. Más información e inscripciones aquí.
URL:https://areasocios.xarxatec.com/event/encuentro-empresarial-digitalitzat/
LOCATION:Castellón
ATTACH;FMTTYPE=image/png:https://areasocios.xarxatec.com/wp-content/uploads/2023/10/unnamed-3.png
END:VEVENT
BEGIN:VEVENT
DTSTART;TZID=UTC:20231018T093000
DTEND;TZID=UTC:20231018T113000
DTSTAMP:20260425T223353
CREATED:20231013T115712Z
LAST-MODIFIED:20231013T115712Z
UID:21057-1697621400-1697628600@areasocios.xarxatec.com
SUMMARY:Perspectivas y Retos de la Ciberseguridad para el 2024
DESCRIPTION:Jornada gratuita con el objetivo de dar a conocer a las empresas todas las herramientas necesarias para identificar los riesgos y puntos débiles en cuanto a ciberseguridad\, proporcionar conocimientos necesarios para la protección y plantear los retos futuros a los cuales se pueden enfrentar. \nInscripciones aquí.
URL:https://areasocios.xarxatec.com/event/perspectivas-y-retos-de-la-ciberseguridad-para-el-2024/
LOCATION:Cámara de Comercio\, Avda.Hermanos Bou 79\, Castellón\, Castellón\, 12003\, España
ATTACH;FMTTYPE=image/png:https://areasocios.xarxatec.com/wp-content/uploads/2023/10/unnamed.png
END:VEVENT
BEGIN:VEVENT
DTSTART;VALUE=DATE:20231026
DTEND;VALUE=DATE:20231028
DTSTAMP:20260425T223353
CREATED:20230308T110238Z
LAST-MODIFIED:20230308T110238Z
UID:20803-1698278400-1698451199@areasocios.xarxatec.com
SUMMARY:Valencia Digital Summit
DESCRIPTION:VDS is the international tech event of the Valencia-Miami-Latam axis\, committed to promoting the entrepreneurial culture and enhancing the innovation ecosystem by fostering partnerships between key players worldwide. Valencia is the healthiest region in the world with a robust startup ecosystem\, large universities and research labs\, and an ideal balance between quality of life\, cost of living\, and talent.
URL:https://areasocios.xarxatec.com/event/valencia-digital-summit/
LOCATION:La Ciudad de las Artes y las Ciencias\, Av. Professor López Piñero 7 46013\, Valencia\, Valencia\, 46013\, España
ATTACH;FMTTYPE=image/jpeg:https://areasocios.xarxatec.com/wp-content/uploads/2023/03/indice.jpg
END:VEVENT
BEGIN:VEVENT
DTSTART;TZID=UTC:20231116T000000
DTEND;TZID=UTC:20231116T000000
DTSTAMP:20260425T223353
CREATED:20231116T095942Z
LAST-MODIFIED:20231116T095942Z
UID:21078-1700092800-1700092800@areasocios.xarxatec.com
SUMMARY:Desayuno Networking 30/11
DESCRIPTION:El  Desayuno de Innovación con temática IA  tendrá lugar el próximo jueves 30 de noviembre de 9 a 11 horas en las instalaciones del Consell en Calle Mayor 78. El evento contará con la Fundación ValgrAI como invitados y con varias ponencias de temática IA entre las cuales destacamos:\n– Emilio Soria\, Catedrático y Director del máster de Ciencia de Datos de la UV\n– Federico Piñuela\, Data Science & AI Manager de IOTSENS – GIDITEK\n– Marián Hernández\, Head of Talent de DQS\n¡Apúntate! https://forms.gle/cQhaFVqQ5ek1UxFs8 
URL:https://areasocios.xarxatec.com/event/desayuno-networking-30-11/
LOCATION:Castellón
END:VEVENT
BEGIN:VEVENT
DTSTART;TZID=UTC:20231116T000000
DTEND;TZID=UTC:20231116T000000
DTSTAMP:20260425T223353
CREATED:20231116T100122Z
LAST-MODIFIED:20231116T100122Z
UID:21079-1700092800-1700092800@areasocios.xarxatec.com
SUMMARY:Brunch de Navidad 13/12
DESCRIPTION:El Brunch de Navidad está en marcha también. Se celebrará en el Restaurante Carceller\, Paseo Morella 16\, en su salón privado de arriba y consistirá en un café de bienvenida de 8:30 a 9 am\, speed networking de 9 a 10 am y de 10 a 11 am almuerzo. Aquí está el formulario para confirmar asistencia y para que los comensales elijan bocadillo. \n¡Apúntate! https://forms.gle/Q19wtc6teBNtU3Fj9 
URL:https://areasocios.xarxatec.com/event/brunch-de-navidad-13-12/
LOCATION:Castellón
END:VEVENT
BEGIN:VEVENT
DTSTART;TZID=Europe/Paris:20231130T110000
DTEND;TZID=Europe/Paris:20231130T130000
DTSTAMP:20260425T223353
CREATED:20231121T095555Z
LAST-MODIFIED:20231121T095555Z
UID:21086-1701342000-1701349200@areasocios.xarxatec.com
SUMMARY:Aeroport Castelló Business Forum
DESCRIPTION:Os hacemos llegar la invitación para asistir a la tercera edición del ‘Aeroport Castelló Business Forum’\, que tendrá lugar el próximo 30 de noviembre en la terminal de pasajeros del Aeropuerto de Castellón\, con la finalidad de ofrecer un espacio de encuentro empresarial. \nHay que confirmar asistencia  aquí antes del viernes 24 de noviembre a las 14.00 horas\, ya que el aforo es limitado.
URL:https://areasocios.xarxatec.com/event/aeroport-castello-business-forum/
LOCATION:Castellón
ATTACH;FMTTYPE=image/jpeg:https://areasocios.xarxatec.com/wp-content/uploads/2023/11/INVITACION-BUSINESS-FORUM-2023.jpg
END:VEVENT
BEGIN:VEVENT
DTSTART;VALUE=DATE:20240109
DTEND;VALUE=DATE:20240110
DTSTAMP:20260425T223353
CREATED:20231227T123159Z
LAST-MODIFIED:20231227T123159Z
UID:21104-1704758400-1704844799@areasocios.xarxatec.com
SUMMARY:Jornada Tech FP Dual
DESCRIPTION:El próximo martes 9 de enero en el Centro Comercial Estepark celebraremos el esperado evento de FP en el que cada año ponemos en contacto empresas y alumnos del grado superior de rama informática\, los alumnos buscan empresas tanto para FP Dual como para el TFG. \nEl evento será desde las 9h00 a las 18h00 nos visitarán unos 200 alumnos de centros de Castellón y Almassora. \nOs recordamos que es necesario registrarse aquí: https://xarxatec.eventscase.com/ES/JornadaTechFP para asistir al evento.\nPor favor\, guardad el correo de confirmación una vez hecho el registro\, ya que contiene el QR de acreditación que nos da el pase a la Jornada.
URL:https://areasocios.xarxatec.com/event/jornada-tech-fp-dual/
LOCATION:Centro Comercial Estepark\, Av. Enrique Gimeno\, 101\, Castellón\, Castellón\, 12006\, España
ATTACH;FMTTYPE=image/jpeg:https://areasocios.xarxatec.com/wp-content/uploads/2023/12/63577946345c75b898069fb6ed77ecb5-0-scaled.jpg
END:VEVENT
BEGIN:VEVENT
DTSTART;TZID=Europe/Paris:20240214T090000
DTEND;TZID=Europe/Paris:20240214T103000
DTSTAMP:20260425T223353
CREATED:20240212T155612Z
LAST-MODIFIED:20240212T155612Z
UID:21128-1707901200-1707906600@areasocios.xarxatec.com
SUMMARY:Desayuno de trabajo
DESCRIPTION:  \nOs dejamos debajo la invitación de la Alcaldesa de Castellón al desayuno de trabajo del día 14 de febrero a las 9:00 \nInvitacion Alcaldesa de Castellón con Consellera Innovacion
URL:https://areasocios.xarxatec.com/event/desayuno-de-trabajo/
LOCATION:Edificio Puerta Azahar\, Paseo Buenavista s/n\, Grao de Castellón\, Castellón
ATTACH;FMTTYPE=image/jpeg:https://areasocios.xarxatec.com/wp-content/uploads/2024/02/Ayuto.jpg
END:VEVENT
BEGIN:VEVENT
DTSTART;VALUE=DATE:20240410
DTEND;VALUE=DATE:20240412
DTSTAMP:20260425T223353
CREATED:20240408T091656Z
LAST-MODIFIED:20240408T091656Z
UID:21148-1712707200-1712879999@areasocios.xarxatec.com
SUMMARY:Meta World Congress
DESCRIPTION:La segunda edición de Meta World Congress tendrá lugar los días 10 y 11 de abril en Madrid. La temática de esta edición es En el umbral de la exploración tecnológica: “Meta World Congress es más que un congreso\, es exploración. Durante dos días nos adentraremos en los cambios tecnológicos de la mano de un grupo escogido de profesionales y expertos que nos guiarán por las soluciones del presente y nos prepararán para las respuestas del futuro.”
URL:https://areasocios.xarxatec.com/event/meta-world-congress-2/
LOCATION:Castellón
ATTACH;FMTTYPE=image/jpeg:https://areasocios.xarxatec.com/wp-content/uploads/2024/04/21.jpg
END:VEVENT
BEGIN:VEVENT
DTSTART;TZID=Europe/Paris:20240416T101500
DTEND;TZID=Europe/Paris:20240416T123000
DTSTAMP:20260425T223353
CREATED:20240411T084659Z
LAST-MODIFIED:20240411T084659Z
UID:21152-1713262500-1713270600@areasocios.xarxatec.com
SUMMARY:Desayuno: Conecta y Emprende en la Provincia
DESCRIPTION:Adjuntamos toda la información en PDF y aquí podéis encontrar el enlace para las inscripciones. \nJornada Conecta Emprendedores C
URL:https://areasocios.xarxatec.com/event/desayuno-conecta-y-emprende-en-la-provincia/
LOCATION:Diputación de Castellón\, Plaza de las Aulas\, Castellón\, Castellón
END:VEVENT
BEGIN:VEVENT
DTSTART;TZID=UTC:20241210T093000
DTEND;TZID=UTC:20241210T133000
DTSTAMP:20260425T223353
CREATED:20250303T121738Z
LAST-MODIFIED:20250303T121759Z
UID:21179-1733823000-1733837400@areasocios.xarxatec.com
SUMMARY:XarxaTec Activa 2024
DESCRIPTION:El pasado 10 de diciembre se celebró el acto de clausura del curso XarxaTec Activa\, un programa intensivo de formación que contó con 612 horas lectivas y que se desarrolló desde el 15 de abril hasta el 5 de diciembre. Este evento reunió a destacados representantes de la red empresarial XarxaTec\, autoridades locales\, empresas asociadas\, alumnos y docentes para conmemorar el éxito del programa. El artículo completo aquí.
URL:https://areasocios.xarxatec.com/event/xarxatec-activa/
LOCATION:CEEI Castellón\, Ronda Circunvalación 188\, Castellón\, Castellón\, 12003\, España
END:VEVENT
BEGIN:VEVENT
DTSTART;TZID=UTC:20250108T090000
DTEND;TZID=UTC:20250108T180000
DTSTAMP:20260425T223353
CREATED:20250303T122821Z
LAST-MODIFIED:20250303T122859Z
UID:21185-1736326800-1736359200@areasocios.xarxatec.com
SUMMARY:Jornada Tech FP Dual 2025
DESCRIPTION:Éxito en la 5ª edición de la Jornada Tech FP Dual organizada por XarxaTec \nCastellón\, 9 de enero de 2025 – Ayer\, 8 de enero\, tuvo lugar la 5ª edición de la Jornada Tech FP Dual\, un evento organizado anualmente por XarxaTec con el objetivo de conectar a estudiantes de Formación Profesional de los ciclos de ASIX\, DAM y DAW con las empresas tecnológicas asociadas a XarxaTec. El artículo completo aquí.
URL:https://areasocios.xarxatec.com/event/jornada-tech-fp-dual-2025/
LOCATION:Centro Comercial Estepark\, Av. Enrique Gimeno\, 101\, Castellón\, Castellón\, 12006\, España
END:VEVENT
BEGIN:VEVENT
DTSTART;TZID=UTC:20250129T093000
DTEND;TZID=UTC:20250129T120000
DTSTAMP:20260425T223353
CREATED:20250303T122553Z
LAST-MODIFIED:20250303T122553Z
UID:21182-1738143000-1738152000@areasocios.xarxatec.com
SUMMARY:Charla Networking con Leyton
DESCRIPTION:Os dejamos aquí la presentación de Leyton sobre la financiación pública y privada de las ayudas de IVACE cuya fecha límite de presentación de solicitudes es el 22 de febrero.\nPodéis encontrar más información sobre las ayudas a continuación: \n\nIVACE Pyme Innovación\nIVACE Digitaliza
URL:https://areasocios.xarxatec.com/event/charla-networking-con-leyton/
LOCATION:Puzzle Consultores\, C/Carcagente no 1\, Castellón\, Castellón de la Plana\, 12005\, Spain
END:VEVENT
END:VCALENDAR