BEGIN:VCALENDAR
VERSION:2.0
PRODID:-//Xarxatec - Area socios - ECPv6.0.9//NONSGML v1.0//EN
CALSCALE:GREGORIAN
METHOD:PUBLISH
X-WR-CALNAME:Xarxatec - Area socios
X-ORIGINAL-URL:https://areasocios.xarxatec.com
X-WR-CALDESC:Eventos para Xarxatec - Area socios
REFRESH-INTERVAL;VALUE=DURATION:PT1H
X-Robots-Tag:noindex
X-PUBLISHED-TTL:PT1H
BEGIN:VTIMEZONE
TZID:UTC
BEGIN:STANDARD
TZOFFSETFROM:+0000
TZOFFSETTO:+0000
TZNAME:UTC
DTSTART:20230101T000000
END:STANDARD
END:VTIMEZONE
BEGIN:VEVENT
DTSTART;VALUE=DATE:20230613
DTEND;VALUE=DATE:20230616
DTSTAMP:20260425T192059
CREATED:20230215T113730Z
LAST-MODIFIED:20230215T113730Z
UID:20663-1686614400-1686873599@areasocios.xarxatec.com
SUMMARY:DES 2023 (DIGITAL ENTERPRISE SHOW)
DESCRIPTION:Digital Enterprise Show (DES) tendrá lugar los días 13\, 14 y 15 de junio en FYCMA\, Palacio de Ferias y Congresos de Málaga. \nFYCMA – Palacio de Ferias y Congresos de Málaga
URL:https://areasocios.xarxatec.com/event/des-2023-digital-enterprise-show/
LOCATION:Castellón
ATTACH;FMTTYPE=image/jpeg:https://areasocios.xarxatec.com/wp-content/uploads/2020/04/DES2023.jpeg
END:VEVENT
END:VCALENDAR