BEGIN:VCALENDAR
VERSION:2.0
PRODID:-//Xarxatec - Area socios - ECPv6.0.9//NONSGML v1.0//EN
CALSCALE:GREGORIAN
METHOD:PUBLISH
X-ORIGINAL-URL:https://areasocios.xarxatec.com
X-WR-CALDESC:Eventos para Xarxatec - Area socios
REFRESH-INTERVAL;VALUE=DURATION:PT1H
X-Robots-Tag:noindex
X-PUBLISHED-TTL:PT1H
BEGIN:VTIMEZONE
TZID:Europe/Paris
BEGIN:DAYLIGHT
TZOFFSETFROM:+0100
TZOFFSETTO:+0200
TZNAME:CEST
DTSTART:20230326T010000
END:DAYLIGHT
BEGIN:STANDARD
TZOFFSETFROM:+0200
TZOFFSETTO:+0100
TZNAME:CET
DTSTART:20231029T010000
END:STANDARD
END:VTIMEZONE
BEGIN:VEVENT
DTSTART;VALUE=DATE:20230601
DTEND;VALUE=DATE:20230603
DTSTAMP:20260425T192109
CREATED:20230524T095915Z
LAST-MODIFIED:20230524T095915Z
UID:20923-1685577600-1685750399@areasocios.xarxatec.com
SUMMARY:II Congreso de empresas responsables y sostenibles: Advance/R+S
DESCRIPTION:Los principales sectores que impulsan la economía valenciana se dan cita para debatir y compartir las prácticas sostenibles en sus estructuras organizativas. Una necesidad creciente debido a las demandas del mercado\, la legislación y\, sobre todo\, del entorno y los grupos de interés que los rodean. Los grandes retos a los que se enfrenta el mundo pasan por un modelo productivo que respete a las personas y el planeta a través del firme compromiso empresarial con la sostenibilidad. \nMás información e inscripciones aquí.
URL:https://areasocios.xarxatec.com/event/ii-congreso-de-empresas-responsables-y-sostenibles-advance-rs/
LOCATION:BioHub Valencia\, Travessia 15 E\,\, Valencia\, 46024\, España
ATTACH;FMTTYPE=image/png:https://areasocios.xarxatec.com/wp-content/uploads/2023/05/unnamed-3.png
END:VEVENT
END:VCALENDAR