BEGIN:VCALENDAR
VERSION:2.0
PRODID:-//Xarxatec - Area socios - ECPv6.0.9//NONSGML v1.0//EN
CALSCALE:GREGORIAN
METHOD:PUBLISH
X-WR-CALNAME:Xarxatec - Area socios
X-ORIGINAL-URL:https://areasocios.xarxatec.com
X-WR-CALDESC:Eventos para Xarxatec - Area socios
REFRESH-INTERVAL;VALUE=DURATION:PT1H
X-Robots-Tag:noindex
X-PUBLISHED-TTL:PT1H
BEGIN:VTIMEZONE
TZID:Europe/Paris
BEGIN:DAYLIGHT
TZOFFSETFROM:+0100
TZOFFSETTO:+0200
TZNAME:CEST
DTSTART:20230326T010000
END:DAYLIGHT
BEGIN:STANDARD
TZOFFSETFROM:+0200
TZOFFSETTO:+0100
TZNAME:CET
DTSTART:20231029T010000
END:STANDARD
END:VTIMEZONE
BEGIN:VEVENT
DTSTART;VALUE=DATE:20230523
DTEND;VALUE=DATE:20230526
DTSTAMP:20260425T204808
CREATED:20230518T093735Z
LAST-MODIFIED:20230518T093735Z
UID:20919-1684800000-1685059199@areasocios.xarxatec.com
SUMMARY:Ciclo de Conectividad y Ciberseguridad
DESCRIPTION:Acelera Pyme Rural organiza el ciclo de Conectividad y Ciberseguridad que se va a realizar el 23 y 25 de mayo tanto online como en el centro CEDES Segorbe para los agentes digitalizadores\, pymes y personas emprendedoras de los municipios rurales de la provincia de Castellón. \nEl 23 de mayo tendrá lugar un webinar sobre ciberseguridad en el que se explicarán los conceptos principales. Y el 25 de mayo tendrá lugar un networking para aprovechar el contacto directo con los agentes digitalizadores de la provincia y así favorecer el conocimiento de las soluciones en ciberseguridad que ofrecen y cómo aprovechar el kit digital. \nInscripciones aquí.
URL:https://areasocios.xarxatec.com/event/ciclo-de-conectividad-y-ciberseguridad/
LOCATION:Castellón
ATTACH;FMTTYPE=image/png:https://areasocios.xarxatec.com/wp-content/uploads/2023/05/unnamed4.png
END:VEVENT
END:VCALENDAR