BEGIN:VCALENDAR
VERSION:2.0
PRODID:-//Xarxatec - Area socios - ECPv6.0.9//NONSGML v1.0//EN
CALSCALE:GREGORIAN
METHOD:PUBLISH
X-ORIGINAL-URL:https://areasocios.xarxatec.com
X-WR-CALDESC:Eventos para Xarxatec - Area socios
REFRESH-INTERVAL;VALUE=DURATION:PT1H
X-Robots-Tag:noindex
X-PUBLISHED-TTL:PT1H
BEGIN:VTIMEZONE
TZID:Europe/Paris
BEGIN:DAYLIGHT
TZOFFSETFROM:+0100
TZOFFSETTO:+0200
TZNAME:CEST
DTSTART:20230326T010000
END:DAYLIGHT
BEGIN:STANDARD
TZOFFSETFROM:+0200
TZOFFSETTO:+0100
TZNAME:CET
DTSTART:20231029T010000
END:STANDARD
END:VTIMEZONE
BEGIN:VEVENT
DTSTART;TZID=Europe/Paris:20230510T093000
DTEND;TZID=Europe/Paris:20230510T110000
DTSTAMP:20260425T204920
CREATED:20230509T091102Z
LAST-MODIFIED:20230509T091102Z
UID:20897-1683711000-1683716400@areasocios.xarxatec.com
SUMMARY:Las nubes de Salesforce mejoran tus ventas en tiempos de crisis
DESCRIPTION:Grupo Nexta en colaboración con Calibre 360 e Integrita\, empresa socia Enactio Plus os invita a un Desayuno de Trabajo: LAS NUBES DE SALESFORCE MEJORAN TUS VENTAS EN TIEMPOS DE CRISIS. \nEs un evento ejecutivo\, dirigido a CEOs\, CFOs\, Directores Comerciales\, CIOs y Directores de Informática y tendrá lugar el próximo 10 de mayo en la Sala Enactio a las 9:30h. \nConfirmar asistencia aquí. \n 
URL:https://areasocios.xarxatec.com/event/las-nubes-de-salesforce-mejoran-tus-ventas-en-tiempos-de-crisis/
LOCATION:Cámara de Comercio\, Avda.Hermanos Bou 79\, Castellón\, Castellón\, 12003\, España
ATTACH;FMTTYPE=image/png:https://areasocios.xarxatec.com/wp-content/uploads/2023/05/img.png
END:VEVENT
END:VCALENDAR