BEGIN:VCALENDAR
VERSION:2.0
PRODID:-//Xarxatec - Area socios - ECPv6.0.9//NONSGML v1.0//EN
CALSCALE:GREGORIAN
METHOD:PUBLISH
X-ORIGINAL-URL:https://areasocios.xarxatec.com
X-WR-CALDESC:Eventos para Xarxatec - Area socios
REFRESH-INTERVAL;VALUE=DURATION:PT1H
X-Robots-Tag:noindex
X-PUBLISHED-TTL:PT1H
BEGIN:VTIMEZONE
TZID:Europe/Paris
BEGIN:DAYLIGHT
TZOFFSETFROM:+0100
TZOFFSETTO:+0200
TZNAME:CEST
DTSTART:20230326T010000
END:DAYLIGHT
BEGIN:STANDARD
TZOFFSETFROM:+0200
TZOFFSETTO:+0100
TZNAME:CET
DTSTART:20231029T010000
END:STANDARD
END:VTIMEZONE
BEGIN:VEVENT
DTSTART;TZID=Europe/Paris:20230502T163000
DTEND;TZID=Europe/Paris:20230502T173000
DTSTAMP:20260425T204347
CREATED:20230427T075730Z
LAST-MODIFIED:20230427T075730Z
UID:20889-1683045000-1683048600@areasocios.xarxatec.com
SUMMARY:Invitación a Órbita Live
DESCRIPTION:Invitación a Órbita Live! “Cómo conseguir inversión teniendo (casi) todo en contra”. \n\n\n\n\n\n\n\n\n\n\n\nEn esta ocasión os traemos un webinar titulado “Cómo conseguir inversión teniendo (casi) todo en contra”. Si alguna vez has pensado que crear una startup en el sector textil sin experiencia ni formación en el sector\, recién salidos de la universidad\, en pleno confinamiento y conseguir una ronda de financiación de un fondo relevante parece imposible\, ¡te demostraremos que no lo es! \nPresentamos el caso de éxito de Clotsy Brand\, una startup de moda sostenible made in Spain que logró crecer en comunidad y facturación a un ritmo envidiable bajo las condiciones más difíciles. Además\, contaron con el apoyo financiero del fondo liderado por Tom Horsey\, Ioniq\, lo cual resultó clave para su éxito. \nEn este Órbita Live\, contaremos con la presencia de Tom Horsey\, co-fundador de Ioniq\, así como de Alfonso Saura\, co-fundador y CEO de Clotsy Brand y Ángela Gómez\, co-fundadora y CMO de Clotsy Brand\, quienes nos contarán cuáles fueron las claves para que se diera ese inicio de una relación\, que está siendo muy fructífera. \nDirigido a:  emprendedores\, innovadores\, CEOs\, founders de startups y todo profesional que tenga una idea emprendedora en marcha o en mente\, y todo aquel que esté interesado en saber cómo conseguir inversión privada. \n¡Inscríbete ya y no te pierdas esta oportunidad!
URL:https://areasocios.xarxatec.com/event/invitacion-a-orbita-live/
LOCATION:Castellón
ATTACH;FMTTYPE=image/jpeg:https://areasocios.xarxatec.com/wp-content/uploads/2023/04/unnamed4.jpg
END:VEVENT
END:VCALENDAR