BEGIN:VCALENDAR
VERSION:2.0
PRODID:-//Xarxatec - Area socios - ECPv6.0.9//NONSGML v1.0//EN
CALSCALE:GREGORIAN
METHOD:PUBLISH
X-ORIGINAL-URL:https://areasocios.xarxatec.com
X-WR-CALDESC:Eventos para Xarxatec - Area socios
REFRESH-INTERVAL;VALUE=DURATION:PT1H
X-Robots-Tag:noindex
X-PUBLISHED-TTL:PT1H
BEGIN:VTIMEZONE
TZID:Europe/Paris
BEGIN:DAYLIGHT
TZOFFSETFROM:+0100
TZOFFSETTO:+0200
TZNAME:CEST
DTSTART:20230326T010000
END:DAYLIGHT
BEGIN:STANDARD
TZOFFSETFROM:+0200
TZOFFSETTO:+0100
TZNAME:CET
DTSTART:20231029T010000
END:STANDARD
END:VTIMEZONE
BEGIN:VEVENT
DTSTART;VALUE=DATE:20230425
DTEND;VALUE=DATE:20230428
DTSTAMP:20260425T222312
CREATED:20230223T111018Z
LAST-MODIFIED:20230223T111018Z
UID:20756-1682380800-1682639999@areasocios.xarxatec.com
SUMMARY:Semana Informática 2023
DESCRIPTION:Vuelve Semana Informática de la Comunidad Valenciana en su edición 18ª\nEn esta ocasión #SI2023 se celebrará del 25 al 27 de abril en Las Naves\, Valencia bajo el lema ‘Década Digital: Competitividad. Liderazgo e innovación’. Las jornadas versarán sobre los retos a los que se enfrenta Europa\, con el horizonte 2030.
URL:https://areasocios.xarxatec.com/event/semana-informatica-2023/
LOCATION:Las Naves\, Valencia\, Carrer de Joan Verdeguer\, 16\, Valencia\, Valencia\, 46024\, España
ATTACH;FMTTYPE=image/png:https://areasocios.xarxatec.com/wp-content/uploads/2023/02/unnamed1.png
END:VEVENT
END:VCALENDAR