BEGIN:VCALENDAR
VERSION:2.0
PRODID:-//Xarxatec - Area socios - ECPv6.0.9//NONSGML v1.0//EN
CALSCALE:GREGORIAN
METHOD:PUBLISH
X-ORIGINAL-URL:https://areasocios.xarxatec.com
X-WR-CALDESC:Eventos para Xarxatec - Area socios
REFRESH-INTERVAL;VALUE=DURATION:PT1H
X-Robots-Tag:noindex
X-PUBLISHED-TTL:PT1H
BEGIN:VTIMEZONE
TZID:Europe/Paris
BEGIN:DAYLIGHT
TZOFFSETFROM:+0100
TZOFFSETTO:+0200
TZNAME:CEST
DTSTART:20230326T010000
END:DAYLIGHT
BEGIN:STANDARD
TZOFFSETFROM:+0200
TZOFFSETTO:+0100
TZNAME:CET
DTSTART:20231029T010000
END:STANDARD
END:VTIMEZONE
BEGIN:VEVENT
DTSTART;TZID=Europe/Paris:20230418T100000
DTEND;TZID=Europe/Paris:20230418T170000
DTSTAMP:20260425T222309
CREATED:20230413T085247Z
LAST-MODIFIED:20230413T085247Z
UID:20876-1681812000-1681837200@areasocios.xarxatec.com
SUMMARY:480 Investors' Day
DESCRIPTION:Cuatroochenta te invita a seguir la presentación online de los resultados financieros correspondientes al ejercicio 2022\, que tendrá lugar el martes 18 de abril a las 10:00 (GMT+2) desde el Palacio de Linares\, sede de la Casa de América (Madrid)\, en el Investors Day de la compañía con la intervención de: \n+ Alfredo R. Cebrián (CEO y cofundador de Cuatroochenta)\n+ David Osuna (Chief Financial Officer de Cuatroochenta) \nLa emisión en streaming será a través de Youtube aquí. \nSe podrán formular preguntas en el chat\, las cuales serán respondidas en directo al finalizar la presentación. Para poder hacerlas\, recuerda que debes estar registrado con tu cuenta de Youtube (Gmail).
URL:https://areasocios.xarxatec.com/event/480-investors-day/
LOCATION:Palacio de Linares\, Plaza Cibeles\, s/n\, Madrid\, Madrid\, 28014\, España
ATTACH;FMTTYPE=image/jpeg:https://areasocios.xarxatec.com/wp-content/uploads/2023/04/unnamed2.jpg
END:VEVENT
END:VCALENDAR