BEGIN:VCALENDAR
VERSION:2.0
PRODID:-//Xarxatec - Area socios - ECPv6.0.9//NONSGML v1.0//EN
CALSCALE:GREGORIAN
METHOD:PUBLISH
X-ORIGINAL-URL:https://areasocios.xarxatec.com
X-WR-CALDESC:Eventos para Xarxatec - Area socios
REFRESH-INTERVAL;VALUE=DURATION:PT1H
X-Robots-Tag:noindex
X-PUBLISHED-TTL:PT1H
BEGIN:VTIMEZONE
TZID:UTC
BEGIN:STANDARD
TZOFFSETFROM:+0000
TZOFFSETTO:+0000
TZNAME:UTC
DTSTART:20230101T000000
END:STANDARD
END:VTIMEZONE
BEGIN:VEVENT
DTSTART;VALUE=DATE:20230331
DTEND;VALUE=DATE:20230402
DTSTAMP:20260425T222501
CREATED:20230215T113455Z
LAST-MODIFIED:20230215T113521Z
UID:20660-1680220800-1680393599@areasocios.xarxatec.com
SUMMARY:Meta World Congress
DESCRIPTION:El evento tecnológico dedicado al metaverso\, web3\, realidad virtual y realidad aumentada \nBlockchain Arbitration Society \n\n de Antonio Acuña\, 9\, Madrid
URL:https://areasocios.xarxatec.com/event/meta-world-congress/
LOCATION:Castellón
ATTACH;FMTTYPE=image/webp:https://areasocios.xarxatec.com/wp-content/uploads/2020/04/Cartel-vf.webp
END:VEVENT
END:VCALENDAR