BEGIN:VCALENDAR
VERSION:2.0
PRODID:-//Xarxatec - Area socios - ECPv6.0.9//NONSGML v1.0//EN
CALSCALE:GREGORIAN
METHOD:PUBLISH
X-ORIGINAL-URL:https://areasocios.xarxatec.com
X-WR-CALDESC:Eventos para Xarxatec - Area socios
REFRESH-INTERVAL;VALUE=DURATION:PT1H
X-Robots-Tag:noindex
X-PUBLISHED-TTL:PT1H
BEGIN:VTIMEZONE
TZID:Europe/Paris
BEGIN:DAYLIGHT
TZOFFSETFROM:+0100
TZOFFSETTO:+0200
TZNAME:CEST
DTSTART:20230326T010000
END:DAYLIGHT
BEGIN:STANDARD
TZOFFSETFROM:+0200
TZOFFSETTO:+0100
TZNAME:CET
DTSTART:20231029T010000
END:STANDARD
END:VTIMEZONE
BEGIN:VEVENT
DTSTART;TZID=Europe/Paris:20230308T100000
DTEND;TZID=Europe/Paris:20230308T113000
DTSTAMP:20260425T233915
CREATED:20230306T175717Z
LAST-MODIFIED:20230306T175717Z
UID:20787-1678269600-1678275000@areasocios.xarxatec.com
SUMMARY:Almuerzo Pre Magdalena 2023
DESCRIPTION:¡No os perdáis esta oportunidad de pasar un rato distendido entre los socios de XarxaTec!\nOs esperamos el día 8 de marzo a las 10:00 en el Restaurante Carceller.
URL:https://areasocios.xarxatec.com/event/almuerzo-pre-magdalena-2023/
LOCATION:Restaurante Carceller\, Carretera Borriol 16\,\, Castellón\, Castellón\, 12004\, España
ATTACH;FMTTYPE=image/png:https://areasocios.xarxatec.com/wp-content/uploads/2023/03/Logo.png
END:VEVENT
END:VCALENDAR